BEGIN:VCALENDAR
VERSION:2.0
PRODID:-//Zinc House Winery &amp; Brewery - ECPv6.15.20//NONSGML v1.0//EN
CALSCALE:GREGORIAN
METHOD:PUBLISH
X-WR-CALNAME:Zinc House Winery &amp; Brewery
X-ORIGINAL-URL:https://www.zinchouse.com
X-WR-CALDESC:Events for Zinc House Winery &amp; Brewery
REFRESH-INTERVAL;VALUE=DURATION:PT1H
X-Robots-Tag:noindex
X-PUBLISHED-TTL:PT1H
BEGIN:VTIMEZONE
TZID:America/New_York
BEGIN:DAYLIGHT
TZOFFSETFROM:-0500
TZOFFSETTO:-0400
TZNAME:EDT
DTSTART:20250309T070000
END:DAYLIGHT
BEGIN:STANDARD
TZOFFSETFROM:-0400
TZOFFSETTO:-0500
TZNAME:EST
DTSTART:20251102T060000
END:STANDARD
BEGIN:DAYLIGHT
TZOFFSETFROM:-0500
TZOFFSETTO:-0400
TZNAME:EDT
DTSTART:20260308T070000
END:DAYLIGHT
BEGIN:STANDARD
TZOFFSETFROM:-0400
TZOFFSETTO:-0500
TZNAME:EST
DTSTART:20261101T060000
END:STANDARD
BEGIN:DAYLIGHT
TZOFFSETFROM:-0500
TZOFFSETTO:-0400
TZNAME:EDT
DTSTART:20270314T070000
END:DAYLIGHT
BEGIN:STANDARD
TZOFFSETFROM:-0400
TZOFFSETTO:-0500
TZNAME:EST
DTSTART:20271107T060000
END:STANDARD
END:VTIMEZONE
BEGIN:VEVENT
DTSTART;TZID=America/New_York:20260423T170000
DTEND;TZID=America/New_York:20260423T210000
DTSTAMP:20260423T062616
CREATED:20260329T172844Z
LAST-MODIFIED:20260329T172844Z
UID:10093217-1776963600-1776978000@www.zinchouse.com
SUMMARY:Food Trucks
DESCRIPTION:Scheduled Time: 5pm-9pm \nAtlas Nomads \n \nCluckiN Batter \n \n  \n  \n 
URL:https://www.zinchouse.com/event/food-trucks-33/
LOCATION:Winery & Brewery\, 6225 Wake Forest Hwy\, Durham\, NC\, 27703
END:VEVENT
BEGIN:VEVENT
DTSTART;TZID=America/New_York:20260423T183000
DTEND;TZID=America/New_York:20260423T213000
DTSTAMP:20260423T062616
CREATED:20260319T234159Z
LAST-MODIFIED:20260319T234159Z
UID:10093184-1776969000-1776979800@www.zinchouse.com
SUMMARY:Live Music
DESCRIPTION:Live music by Ashley Robinson \n \n  \n  \n  \n  \n 
URL:https://www.zinchouse.com/event/live-music-15/
LOCATION:Winery & Brewery\, 6225 Wake Forest Hwy\, Durham\, NC\, 27703
END:VEVENT
END:VCALENDAR